BEGIN:VCALENDAR
VERSION:2.0
PRODID:-//Die Freezers - ECPv6.5.1.3//NONSGML v1.0//EN
CALSCALE:GREGORIAN
METHOD:PUBLISH
X-ORIGINAL-URL:https://www.diefreezers.de
X-WR-CALDESC:Veranstaltungen für Die Freezers
REFRESH-INTERVAL;VALUE=DURATION:PT1H
X-Robots-Tag:noindex
X-PUBLISHED-TTL:PT1H
BEGIN:VTIMEZONE
TZID:Europe/Paris
BEGIN:DAYLIGHT
TZOFFSETFROM:+0100
TZOFFSETTO:+0200
TZNAME:CEST
DTSTART:20230326T010000
END:DAYLIGHT
BEGIN:STANDARD
TZOFFSETFROM:+0200
TZOFFSETTO:+0100
TZNAME:CET
DTSTART:20231029T010000
END:STANDARD
END:VTIMEZONE
BEGIN:VEVENT
DTSTART;VALUE=DATE:20230603
DTEND;VALUE=DATE:20230604
DTSTAMP:20260422T115903
CREATED:20230505T163039Z
LAST-MODIFIED:20230505T165045Z
UID:1461-1685750400-1685836799@www.diefreezers.de
SUMMARY:Freezersaction | PRIVAT
DESCRIPTION:Es geht zurück in unsere Jugend\, wo uns das Saufen\, Rauchen und Feiern gelehrt wurde!\nZusammen mit #TSHB geben wir ein Privatkonzert in Bastheim.
URL:https://www.diefreezers.de/termine/freezersveranstaltung-privat/
END:VEVENT
END:VCALENDAR