BEGIN:VCALENDAR
VERSION:2.0
PRODID:-//Die Freezers - ECPv6.5.1.3//NONSGML v1.0//EN
CALSCALE:GREGORIAN
METHOD:PUBLISH
X-ORIGINAL-URL:https://www.diefreezers.de
X-WR-CALDESC:Veranstaltungen für Die Freezers
REFRESH-INTERVAL;VALUE=DURATION:PT1H
X-Robots-Tag:noindex
X-PUBLISHED-TTL:PT1H
BEGIN:VTIMEZONE
TZID:Europe/Paris
BEGIN:DAYLIGHT
TZOFFSETFROM:+0100
TZOFFSETTO:+0200
TZNAME:CEST
DTSTART:20230326T010000
END:DAYLIGHT
BEGIN:STANDARD
TZOFFSETFROM:+0200
TZOFFSETTO:+0100
TZNAME:CET
DTSTART:20231029T010000
END:STANDARD
END:VTIMEZONE
BEGIN:VEVENT
DTSTART;TZID=Europe/Paris:20230121T180000
DTEND;TZID=Europe/Paris:20230122T030000
DTSTAMP:20260422T180541
CREATED:20221229T172330Z
LAST-MODIFIED:20230106T103228Z
UID:444-1674324000-1674356400@www.diefreezers.de
SUMMARY:Fistival der Liebe | PRIVAT
DESCRIPTION:Am 21. Januar 2023 findet die Winterausgabe zum Chairwalk Fistival in Burglauer statt. Es handelt sich dabei um eine Privatveranstaltung und ist ausschließlich für geladene Gäste. Neben den Freezers spielen dort außerdem #TSHB\, Headaches\, Oldfarts und die Sexy Sisters. Wir freuen uns auf einen Abend voller Liebe!
URL:https://www.diefreezers.de/termine/fistival-der-liebe/
LOCATION:Burglauer\, 97724
CATEGORIES:Festival,Konzert,Privatveranstaltung
ATTACH;FMTTYPE=image/png:https://www.diefreezers.de/wp-content/uploads/2022/12/fistival.png
END:VEVENT
END:VCALENDAR